BEGIN:VCALENDAR
VERSION:2.0
PRODID:-//hacksw/handcal//NONSGML v1.0//EN
CALSCALE:GREGORIAN
BEGIN:VEVENT
LOCATION:93 Rue des Sports 34750 Villeneuve-lès-Maguelone
DESCRIPTION:Un trio 100% féminin, trois univers hilarants, plus d’une heure de stand-up. ➡️ Proposé par...
DTSTART:20250228T200000
DTEND:20250301
SUMMARY:Méfiez-vous des filles
URL;VALUE=URI:https://www.villeneuvelesmaguelone.fr/evenement/mefiez-vous-des-filles/
DTSTAMP:20260420T185950
UID:69e677a6a2a33
END:VEVENT
END:VCALENDAR