BEGIN:VCALENDAR
VERSION:2.0
PRODID:-//hacksw/handcal//NONSGML v1.0//EN
CALSCALE:GREGORIAN
BEGIN:VEVENT
LOCATION:Grand Jardin 34750 Villeneuve-lès-Maguelone
DESCRIPTION:Dans le cadre du printemps des comédiens. Molière loin des ors de Versailles, le Molière...
DTSTART:20250603T190000
DTEND:20250604
SUMMARY:Molière et ses masques
URL;VALUE=URI:https://www.villeneuvelesmaguelone.fr/evenement/moliereetsesmasques/
DTSTAMP:20260420T095440
UID:69e5f7e0d88bd
END:VEVENT
END:VCALENDAR