BEGIN:VCALENDAR
VERSION:2.0
PRODID:-//hacksw/handcal//NONSGML v1.0//EN
CALSCALE:GREGORIAN
BEGIN:VEVENT
LOCATION:Place des Héros
DESCRIPTION:❁ Hors les mursCie Raoui &#8211; Morgane AudoinRécit &#8211; 1h La grand-mère de Morgane Audoin...
DTSTART:20250508T104500
DTEND:20250508T114500
SUMMARY:Nenna
URL;VALUE=URI:https://www.villeneuvelesmaguelone.fr/evenement/nenna/
DTSTAMP:20260420T185736
UID:69e677205a7d2
END:VEVENT
END:VCALENDAR