BEGIN:VCALENDAR
VERSION:2.0
PRODID:-//hacksw/handcal//NONSGML v1.0//EN
CALSCALE:GREGORIAN
BEGIN:VEVENT
LOCATION:Théâtre municipal Jérôme Savary 34750 Villeneuve-lès-Maguelone
DESCRIPTION:Jazz voyageur Dans le cadre de la 17e édition du Koa Jazz Festival. Toute la...
DTSTART:20251109T150000
DTEND:20251110
SUMMARY:Nomades & Gülay Hacer Toruk
URL;VALUE=URI:https://www.villeneuvelesmaguelone.fr/evenement/nomades-gulay-hacer-toruk/
DTSTAMP:20260420T013603
UID:69e583033332f
END:VEVENT
END:VCALENDAR