BEGIN:VCALENDAR
VERSION:2.0
PRODID:-//hacksw/handcal//NONSGML v1.0//EN
CALSCALE:GREGORIAN
BEGIN:VEVENT
LOCATION:Centre de loisirs, plage du Pilou
DESCRIPTION:❁ Hors les mursDuo Lila BazookaMusique &#8211; 1h15 Océans Infinis nous plonge au cœur de...
DTSTART:20250524T200000
DTEND:20250525
SUMMARY:Océans Infinis
URL;VALUE=URI:https://www.villeneuvelesmaguelone.fr/evenement/oceans-infinis/
DTSTAMP:20260420T190652
UID:69e6794c730b5
END:VEVENT
END:VCALENDAR