BEGIN:VCALENDAR
VERSION:2.0
PRODID:-//hacksw/handcal//NONSGML v1.0//EN
CALSCALE:GREGORIAN
BEGIN:VEVENT
LOCATION:101 Boulevard des Ecoles 34750 Villeneuve-lès-Maguelone
DESCRIPTION:Venir en aide aux familles touchées par la maladie est la mission première de France...
DTSTART:20250609T140000
DTEND:20250609T170000
SUMMARY:Permanence France Alzheimer
URL;VALUE=URI:https://www.villeneuvelesmaguelone.fr/evenement/permanence-france-alzheimer-3/
DTSTAMP:20260420T155547
UID:69e64c83c4332
END:VEVENT
END:VCALENDAR