BEGIN:VCALENDAR
VERSION:2.0
PRODID:-//hacksw/handcal//NONSGML v1.0//EN
CALSCALE:GREGORIAN
BEGIN:VEVENT
LOCATION:101 Boulevard des Ecoles 34750 Villeneuve-lès-Maguelone
DESCRIPTION:Depuis le mois d’avril, la commune a déployé le Plan d’Union Locale contre la Précarité...
DTSTART:20250505T090000
DTEND:20250505T120000
SUMMARY:Permanence Géfosat, pour optimiser vos dépenses d’énergie
URL;VALUE=URI:https://www.villeneuvelesmaguelone.fr/evenement/permanence-gefosat-pour-optimiser-vos-depenses-denergie/
DTSTAMP:20260420T142052
UID:69e636444bfeb
END:VEVENT
END:VCALENDAR