BEGIN:VCALENDAR
VERSION:2.0
PRODID:-//hacksw/handcal//NONSGML v1.0//EN
CALSCALE:GREGORIAN
BEGIN:VEVENT
LOCATION:Théâtre municipal Jérôme Savary 34750 Villeneuve-lès-Maguelone
DESCRIPTION:Valentin Dilas « Et toi, quel moment médiatique a le plus marqué ta vie ?...
DTSTART:20251016T200000
DTEND:20251017
SUMMARY:Playback FM Vol.2 (Les médias, vous et moi)
URL;VALUE=URI:https://www.villeneuvelesmaguelone.fr/evenement/playback-fm-vol-2/
DTSTAMP:20260420T013538
UID:69e582ea146c5
END:VEVENT
END:VCALENDAR