BEGIN:VCALENDAR
VERSION:2.0
PRODID:-//hacksw/handcal//NONSGML v1.0//EN
CALSCALE:GREGORIAN
BEGIN:VEVENT
LOCATION:Anciens Ateliers
DESCRIPTION:❁ Hors les mursBarrutMusique &#8211; 1h30Bar et petite restauration sur place Trois chanteuses, quatre chanteurs...
DTSTART:20250607T200000
DTEND:20250608
SUMMARY:Polifonia
URL;VALUE=URI:https://www.villeneuvelesmaguelone.fr/evenement/polifonia/
DTSTAMP:20260420T204355
UID:69e6900bb3f89
END:VEVENT
END:VCALENDAR