BEGIN:VCALENDAR
VERSION:2.0
PRODID:-//hacksw/handcal//NONSGML v1.0//EN
CALSCALE:GREGORIAN
BEGIN:VEVENT
LOCATION:Théâtre municipal Jérôme Savary 34750 Villeneuve-lès-Maguelone
DESCRIPTION:Gilles Granouillet / Azyadé Bascunana Avec le soutien de Montpellier Méditerranée Métropole Vous souvenez-vous de...
DTSTART:20251205T190000
DTEND:20251206
SUMMARY:Poucet pour les grands
URL;VALUE=URI:https://www.villeneuvelesmaguelone.fr/evenement/poucet-pour-les-grands/
DTSTAMP:20260420T000730
UID:69e56e4298583
END:VEVENT
END:VCALENDAR