BEGIN:VCALENDAR
VERSION:2.0
PRODID:-//hacksw/handcal//NONSGML v1.0//EN
CALSCALE:GREGORIAN
BEGIN:VEVENT
LOCATION:
DESCRIPTION:Poulpinade acte 3&nbsp;! Raz de marée de poulpes à Villeneuve-lès-Maguelone&nbsp;! Les manja-pofres se rassembleront les...
DTSTART:20250531T110000
DTEND:20250601T180000
SUMMARY:Poulpinade 2025
URL;VALUE=URI:https://www.villeneuvelesmaguelone.fr/evenement/poulpinade-2025/
DTSTAMP:20260420T142103
UID:69e6364ff0ac5
END:VEVENT
END:VCALENDAR