BEGIN:VCALENDAR
VERSION:2.0
PRODID:-//hacksw/handcal//NONSGML v1.0//EN
CALSCALE:GREGORIAN
BEGIN:VEVENT
LOCATION:
DESCRIPTION:La section taurine villeneuvoise vous invite à une soirée de présentation de sa saison, où...
DTSTART:20250411T183000
DTEND:20250412
SUMMARY:Présentation de la saison taurine
URL;VALUE=URI:https://www.villeneuvelesmaguelone.fr/evenement/presentation-de-la-saison-taurine/
DTSTAMP:20260420T160437
UID:69e64e952be76
END:VEVENT
END:VCALENDAR