BEGIN:VCALENDAR
VERSION:2.0
PRODID:-//hacksw/handcal//NONSGML v1.0//EN
CALSCALE:GREGORIAN
BEGIN:VEVENT
LOCATION:Théâtre municipal Jérôme Savary, 34750 Villeneuve-lès-Maguelone
DESCRIPTION:avec la compagnie Bougrelas, la Costumotek et des artistes de la saison En partenariat avec...
DTSTART:20250920T190000
DTEND:20250921
SUMMARY:Présentation de saison et karaoké déjanté
URL;VALUE=URI:https://www.villeneuvelesmaguelone.fr/evenement/presentation-de-saison-et-karaoke-dejante/
DTSTAMP:20260420T000530
UID:69e56dcad5825
END:VEVENT
END:VCALENDAR