BEGIN:VCALENDAR
VERSION:2.0
PRODID:-//hacksw/handcal//NONSGML v1.0//EN
CALSCALE:GREGORIAN
BEGIN:VEVENT
LOCATION:
DESCRIPTION:La commune de Villeneuve-lès-Maguelone, accompagnée par l’équipe de Hurricane Parks, lance un nouveau projet :...
DTSTART:20250703T183000
DTEND:20250704
SUMMARY:Projet de création d’un pumptrack – Rencontre participative
URL;VALUE=URI:https://www.villeneuvelesmaguelone.fr/evenement/projet-de-creation-dun-pumptrack-reunion-participative/
DTSTAMP:20260420T064517
UID:69e5cb7db40f4
END:VEVENT
END:VCALENDAR