BEGIN:VCALENDAR
VERSION:2.0
PRODID:-//hacksw/handcal//NONSGML v1.0//EN
CALSCALE:GREGORIAN
BEGIN:VEVENT
LOCATION:122 Rue Marius Bouladou 34750 Villeneuve-lès-Maguelone
DESCRIPTION:Initié au début de la mandature de Véronique Négret et son équipe, le collège habitant...
DTSTART:20250708T180000
DTEND:20250709
SUMMARY:Réunion d’information : la reprise du collège habitant
URL;VALUE=URI:https://www.villeneuvelesmaguelone.fr/evenement/reunion-dinformation-college-habitant/
DTSTAMP:20260420T064440
UID:69e5cb58eb685
END:VEVENT
END:VCALENDAR