BEGIN:VCALENDAR
VERSION:2.0
PRODID:-//hacksw/handcal//NONSGML v1.0//EN
CALSCALE:GREGORIAN
BEGIN:VEVENT
LOCATION:Centre culturel 34750 Villeneuve-lès-Maguelone
DESCRIPTION:Madame le Maire de Villeneuve-lès-Maguelone et le Conseil municipal invitent les villeneuvois à venir échanger...
DTSTART:20250626T183000
DTEND:20250627
SUMMARY:Réunion publique de bilan de fin de mandat
URL;VALUE=URI:https://www.villeneuvelesmaguelone.fr/evenement/reunion-publique-de-bilan-de-fin-de-mandat/
DTSTAMP:20260420T082448
UID:69e5e2d091f9c
END:VEVENT
END:VCALENDAR