BEGIN:VCALENDAR
VERSION:2.0
PRODID:-//hacksw/handcal//NONSGML v1.0//EN
CALSCALE:GREGORIAN
BEGIN:VEVENT
LOCATION:
DESCRIPTION:Envi&rsquo;touch organise son tournoi annuel de rugby à 5 Découvrir le rugby à 5 et...
DTSTART:20260425T140000
DTEND:20260426
SUMMARY:Tournoi de rugby à 5
URL;VALUE=URI:https://www.villeneuvelesmaguelone.fr/evenement/rugby-a-5/
DTSTAMP:20260420T120423
UID:69e616477e14a
END:VEVENT
END:VCALENDAR