BEGIN:VCALENDAR
VERSION:2.0
PRODID:-//hacksw/handcal//NONSGML v1.0//EN
CALSCALE:GREGORIAN
BEGIN:VEVENT
LOCATION:EHPAD Mathilde Laurent
DESCRIPTION:❁ Hors les mursCie Traversant 3Théâtre &#8211; 45mn « Il n&rsquo;y a qu&rsquo;un moyen pour...
DTSTART:20250523T200000
DTEND:20250524
SUMMARY:Sale bête
URL;VALUE=URI:https://www.villeneuvelesmaguelone.fr/evenement/sale-bete/
DTSTAMP:20260420T204241
UID:69e68fc104b38
END:VEVENT
END:VCALENDAR