BEGIN:VCALENDAR
VERSION:2.0
PRODID:-//hacksw/handcal//NONSGML v1.0//EN
CALSCALE:GREGORIAN
BEGIN:VEVENT
LOCATION:
DESCRIPTION:Vieillir : une force à partager !Les aînés nous avons besoin d’eux, ils ont besoin...
DTSTART:20251006
DTEND:20251013
SUMMARY:Semaine Bleue
URL;VALUE=URI:https://www.villeneuvelesmaguelone.fr/evenement/semaine-bleue-2/
DTSTAMP:20260419T223258
UID:69e5581a85f93
END:VEVENT
END:VCALENDAR