BEGIN:VCALENDAR
VERSION:2.0
PRODID:-//hacksw/handcal//NONSGML v1.0//EN
CALSCALE:GREGORIAN
BEGIN:VEVENT
LOCATION:74 rue Marius Bouladou, Villeneuve-lès-Maguelone
DESCRIPTION:Dans le cadre de la Semaine Bleue, l&rsquo;association Brain Up en partenariat avec le Centre...
DTSTART:20251007T093000
DTEND:20251007T113000
SUMMARY:Semaine Bleue : atelier « Bien-être au quotidien »
URL;VALUE=URI:https://www.villeneuvelesmaguelone.fr/evenement/semaine-bleue-atelier-bien-etre/
DTSTAMP:20260419T223426
UID:69e55872d8223
END:VEVENT
END:VCALENDAR