BEGIN:VCALENDAR
VERSION:2.0
PRODID:-//hacksw/handcal//NONSGML v1.0//EN
CALSCALE:GREGORIAN
BEGIN:VEVENT
LOCATION:74 rue Marius Bouladou, Villeneuve-lès-Maguelone
DESCRIPTION:L&rsquo;association Brain Up en partenariat avec le Centre Communal d&rsquo;Action Sociale de la Ville, propose...
DTSTART:20251014T093000
DTEND:20251014T113000
SUMMARY:Atelier « Bien-être au quotidien »
URL;VALUE=URI:https://www.villeneuvelesmaguelone.fr/evenement/semaine-bleue-atelier-de-prevention-des-risques-de-chute-14-10/
DTSTAMP:20260419T223200
UID:69e557e0eb505
END:VEVENT
END:VCALENDAR