BEGIN:VCALENDAR
VERSION:2.0
PRODID:-//hacksw/handcal//NONSGML v1.0//EN
CALSCALE:GREGORIAN
BEGIN:VEVENT
LOCATION:8 Rue des Colibris 34750 Villeneuve-lès-Maguelone
DESCRIPTION:Dans le cadre de la Semaine Bleue, la La Communauté des Professionnels de Santé (CPTS)...
DTSTART:20251006T140000
DTEND:20251006T180000
SUMMARY:Semaine Bleue : atelier de prévention des risques de chute
URL;VALUE=URI:https://www.villeneuvelesmaguelone.fr/evenement/semaine-bleue-atelier-de-prevention-des-risques-de-chute/
DTSTAMP:20260419T223756
UID:69e559449896e
END:VEVENT
END:VCALENDAR