BEGIN:VCALENDAR
VERSION:2.0
PRODID:-//hacksw/handcal//NONSGML v1.0//EN
CALSCALE:GREGORIAN
BEGIN:VEVENT
LOCATION:8 Rue des Colibris 34750 Villeneuve-lès-Maguelone
DESCRIPTION:Dans le cadre de la Semaine Bleue, le Centre Communal d&rsquo;Action sociale de la Ville...
DTSTART:20251009T140000
DTEND:20251009T173000
SUMMARY:Semaine Bleue : Thé dansant
URL;VALUE=URI:https://www.villeneuvelesmaguelone.fr/evenement/semaine-bleue-the-dansant/
DTSTAMP:20260419T210328
UID:69e54320a790e
END:VEVENT
END:VCALENDAR