BEGIN:VCALENDAR
VERSION:2.0
PRODID:-//hacksw/handcal//NONSGML v1.0//EN
CALSCALE:GREGORIAN
BEGIN:VEVENT
LOCATION:1 Rue de l’Oree du Littoral 34750 Villeneuve-lès-Maguelone
DESCRIPTION:Du 17 au 21 mars, la crèche de Villeneuve-lès-Maguelone propose des rencontres avec les professionnels...
DTSTART:20250317
DTEND:20250322
SUMMARY:Semaine de la petite enfance
URL;VALUE=URI:https://www.villeneuvelesmaguelone.fr/evenement/semaine-de-la-petite-enfance/
DTSTAMP:20260420T160022
UID:69e64d966d189
END:VEVENT
END:VCALENDAR