BEGIN:VCALENDAR
VERSION:2.0
PRODID:-//hacksw/handcal//NONSGML v1.0//EN
CALSCALE:GREGORIAN
BEGIN:VEVENT
LOCATION:235 Boulevard des Moures 34750 Villeneuve-lès-Maguelone
DESCRIPTION:Dans le cadre de Festi&rsquo;Petits. Un moment de connexion tendre entre l’adulte et son enfant,...
DTSTART:20260131T103000
DTEND:20260201
SUMMARY:Souffle & contes : yoga des petits par « Le cocon des Doulas »
URL;VALUE=URI:https://www.villeneuvelesmaguelone.fr/evenement/souffle-contes-yoga-des-petits-par-le-cocon-des-doulas/
DTSTAMP:20260419T162734
UID:69e502762f0b6
END:VEVENT
END:VCALENDAR