BEGIN:VCALENDAR
VERSION:2.0
PRODID:-//hacksw/handcal//NONSGML v1.0//EN
CALSCALE:GREGORIAN
BEGIN:VEVENT
LOCATION:Plage du Pilou
DESCRIPTION:Organisé par l&rsquo;association Courir en Solidaire 📅 Samedi 21 juin &#8211; Départ à 9h📍 Parking...
DTSTART:20250621T090000
DTEND:20250622
SUMMARY:Swimrun La Belle Maguelone
URL;VALUE=URI:https://www.villeneuvelesmaguelone.fr/evenement/swimrun-la-belle-maguelone-2/
DTSTAMP:20260420T083059
UID:69e5e4430f94f
END:VEVENT
END:VCALENDAR