BEGIN:VCALENDAR
VERSION:2.0
PRODID:-//hacksw/handcal//NONSGML v1.0//EN
CALSCALE:GREGORIAN
BEGIN:VEVENT
LOCATION:Arènes municipales 34750 Villeneuve-lès-Maguelone
DESCRIPTION:Taureaux piscine organisée par la Section Taurine Villeneuvoise aux arènes municipales Claude Jouvenel. Animateur : Bruno...
DTSTART:20250724T210000
DTEND:20250725
SUMMARY:Taureaux piscine
URL;VALUE=URI:https://www.villeneuvelesmaguelone.fr/evenement/taureaux-piscine-2-2-2-2-2-2/
DTSTAMP:20260420T125018
UID:69e6210a970fe
END:VEVENT
END:VCALENDAR