BEGIN:VCALENDAR
VERSION:2.0
PRODID:-//hacksw/handcal//NONSGML v1.0//EN
CALSCALE:GREGORIAN
BEGIN:VEVENT
LOCATION:Domaine du Chapitre 34750 Villeneuve-lès-Maguelone
DESCRIPTION:Gaspard Chauvelot Entre la revue de presse et le stand-up, Gaspard Chauvelot nous invite à...
DTSTART:20251009T200000
DTEND:20251010
SUMMARY:Tentatives d’épuisement – Ep.1
URL;VALUE=URI:https://www.villeneuvelesmaguelone.fr/evenement/tentatives-depuisement-ep-1/
DTSTAMP:20260420T013640
UID:69e58328dcf26
END:VEVENT
END:VCALENDAR