BEGIN:VCALENDAR
VERSION:2.0
PRODID:-//hacksw/handcal//NONSGML v1.0//EN
CALSCALE:GREGORIAN
BEGIN:VEVENT
LOCATION:Théâtre municipal Jérôme Savary 34750 Villeneuve-lès-Maguelone
DESCRIPTION:Gaspard Chauvelot Entre la revue de presse et le stand-up, Gaspard Chauvelot nous invite à...
DTSTART:20251216T200000
DTEND:20251217
SUMMARY:Tentatives d’épuisement – Ep.2
URL;VALUE=URI:https://www.villeneuvelesmaguelone.fr/evenement/tentatives-depuisement-ep-2/
DTSTAMP:20260420T000304
UID:69e56d38e8c08
END:VEVENT
END:VCALENDAR