BEGIN:VCALENDAR
VERSION:2.0
PRODID:-//hacksw/handcal//NONSGML v1.0//EN
CALSCALE:GREGORIAN
BEGIN:VEVENT
LOCATION:Théâtre municipal Jérôme Savary 34750 Villeneuve-lès-Maguelone
DESCRIPTION:Gaspard Chauvelot Entre la revue de presse et le stand-up, Gaspard Chauvelot nous invite à...
DTSTART:20260319T200000
DTEND:20260320
SUMMARY:Tentatives d’épuisement – Ep.3
URL;VALUE=URI:https://www.villeneuvelesmaguelone.fr/evenement/tentatives-depuisement-ep-3/
DTSTAMP:20260421T083828
UID:69e7378484c04
END:VEVENT
END:VCALENDAR