BEGIN:VCALENDAR
VERSION:2.0
PRODID:-//hacksw/handcal//NONSGML v1.0//EN
CALSCALE:GREGORIAN
BEGIN:VEVENT
LOCATION:Parvis Gérard bouisson 34750 Villeneuve-lès-Maguelone
DESCRIPTION:Vélocité est un évènement festif et convivial qui vise à sensibiliser les citoyens aux mobilités...
DTSTART:20251005T100000
DTEND:20251005T163000
SUMMARY:Vélocité en Tournée à Villeneuve lès Maguelone
URL;VALUE=URI:https://www.villeneuvelesmaguelone.fr/evenement/velocite-en-tournee-a-villeneuve-les-maguelone/
DTSTAMP:20260419T223802
UID:69e5594a04348
END:VEVENT
END:VCALENDAR