BEGIN:VCALENDAR
VERSION:2.0
PRODID:-//hacksw/handcal//NONSGML v1.0//EN
CALSCALE:GREGORIAN
BEGIN:VEVENT
LOCATION:235 Boulevard des Moures 34750 Villeneuve-lès-Maguelone
DESCRIPTION:Les Demoiselles de Maguelone organisent leur premier vide commode d&rsquo;Arlésienne. 🗓️ Samedi 15 mars, de...
DTSTART:20250315T090000
DTEND:20250315T170000
SUMMARY:Vide commode d’arlésienne
URL;VALUE=URI:https://www.villeneuvelesmaguelone.fr/evenement/vide-commode-darlesiennes/
DTSTAMP:20260420T190530
UID:69e678fab96d9
END:VEVENT
END:VCALENDAR