BEGIN:VCALENDAR
VERSION:2.0
PRODID:-//hacksw/handcal//NONSGML v1.0//EN
CALSCALE:GREGORIAN
BEGIN:VEVENT
LOCATION:Centre de loisirs, plage du Pilou
DESCRIPTION:❁ Hors les mursFutur ImmoralDanse &#8211; 55mn En ce lieu détaché du monde, entre marais...
DTSTART:20250524T150000
DTEND:20250525
SUMMARY:Vouar
URL;VALUE=URI:https://www.villeneuvelesmaguelone.fr/evenement/vouar/
DTSTAMP:20260420T185950
UID:69e677a67117e
END:VEVENT
END:VCALENDAR