BEGIN:VCALENDAR
VERSION:2.0
PRODID:-//hacksw/handcal//NONSGML v1.0//EN
CALSCALE:GREGORIAN
BEGIN:VEVENT
LOCATION:Allée du Collège 34750 Villeneuve-lès-Maguelone
DESCRIPTION:Stage de Contact Improvisation du 23 au 25 mai 2025 à la salle de danse...
DTSTART:20250523T203000
DTEND:20250525T170000
SUMMARY:Voyager entre Terre et Ciel
URL;VALUE=URI:https://www.villeneuvelesmaguelone.fr/evenement/voyager-entre-terre-et-ciel/
DTSTAMP:20260420T142206
UID:69e6368e1eddf
END:VEVENT
END:VCALENDAR